BEGIN:VCALENDAR
VERSION:2.0
PRODID:-//birthparentsupportalliance.org//NONSGML kigkonsult.se iCalcreator
  2.30.10//
CALSCALE:GREGORIAN
METHOD:PUBLISH
UID:59dc4600-a36d-4f1b-9742-ed46c891eac0
X-WR-CALDESC:
X-WR-RELCALID:b1e47f9650d3259442587b7c0f249af8
X-WR-TIMEZONE:America/Chicago
BEGIN:VTIMEZONE
TZID:America/Chicago
BEGIN:STANDARD
TZNAME:CST
DTSTART:20201101T020000
TZOFFSETFROM:-0500
TZOFFSETTO:-0600
RDATE:20211107T020000
END:STANDARD
BEGIN:DAYLIGHT
TZNAME:CDT
DTSTART:20210314T020000
TZOFFSETFROM:-0600
TZOFFSETTO:-0500
RDATE:20220313T020000
END:DAYLIGHT
END:VTIMEZONE
BEGIN:VEVENT
UID:dc41276b-1351-4b6b-b672-b3687e872a5d
DTSTAMP:20260423T012657Z
DESCRIPTION:
DTSTART;TZID=America/Chicago:20210416T190000
DTEND;TZID=America/Chicago:20210416T200000
LOCATION:
SUMMARY:BirthmomConnect Call: Navigating Reunion
END:VEVENT
END:VCALENDAR
