BEGIN:VCALENDAR
VERSION:2.0
PRODID:-//birthparentsupportalliance.org//NONSGML kigkonsult.se iCalcreator
  2.30.10//
CALSCALE:GREGORIAN
METHOD:PUBLISH
UID:ba8ae44d-2709-41b2-aef8-3134f28a21b0
X-WR-CALDESC:PRESENTED VIA ZOOM Throughout 2021\, On Your Feet Foundation w
 ill be hosting a monthly speaker series for all sides of the triad that co
 ntinues to expand ​on key topics explored in our first 4 session in Octobe
 r 2020: Race\, Resilience and Relationships in adoption. ​The series is be
 ing presented in 4 chapters with each chapter covering the three topics wi
 th renowned speakers.\n
X-WR-RELCALID:88d15f86862a1d4c35a4058a32721ccf
X-WR-TIMEZONE:America/Chicago
BEGIN:VTIMEZONE
TZID:America/Chicago
BEGIN:STANDARD
TZNAME:CST
DTSTART:20201101T020000
TZOFFSETFROM:-0500
TZOFFSETTO:-0600
RDATE:20211107T020000
END:STANDARD
BEGIN:DAYLIGHT
TZNAME:CDT
DTSTART:20200308T020000
TZOFFSETFROM:-0600
TZOFFSETTO:-0500
RDATE:20210314T020000
RDATE:20220313T020000
END:DAYLIGHT
END:VTIMEZONE
BEGIN:VEVENT
UID:bc237bb5-e938-433f-b8c3-ce8eea2db989
DTSTAMP:20260423T044848Z
DESCRIPTION:PRESENTED VIA ZOOM Throughout 2021\, On Your Feet Foundation wi
 ll be hosting a monthly speaker series for all sides of the triad that con
 tinues to expand ​on key topics explored in our first 4 session in October
  2020: Race\, Resilience and Relationships in adoption. ​The series is bei
 ng presented in 4 chapters with each chapter covering the three topics wit
 h renowned speakers.\n
DTSTART;TZID=America/Chicago:20210221T140000
DTEND;TZID=America/Chicago:20210221T153000
LOCATION:Virtual/Zoom
SUMMARY:Activism in Adoption Speaker Series
END:VEVENT
END:VCALENDAR
