BEGIN:VCALENDAR
VERSION:2.0
PRODID:-//birthparentsupportalliance.org//NONSGML kigkonsult.se iCalcreator
  2.30.10//
CALSCALE:GREGORIAN
METHOD:PUBLISH
UID:ab43f5f0-98f2-4706-b7a1-e1467dbbe32b
X-WR-CALDESC:2021 Early Spring Virtual Retreat (Survivor to Thriver)\nFeb 1
 2th through 13th \nregistration is now open\, closes Jan 22nd
X-WR-RELCALID:4357d9ea387290dbfa1256f8bf1ba064
X-WR-TIMEZONE:America/Chicago
BEGIN:VTIMEZONE
TZID:America/Chicago
BEGIN:STANDARD
TZNAME:CST
DTSTART:20201101T020000
TZOFFSETFROM:-0500
TZOFFSETTO:-0600
RDATE:20211107T020000
END:STANDARD
BEGIN:DAYLIGHT
TZNAME:CDT
DTSTART:20200308T020000
TZOFFSETFROM:-0600
TZOFFSETTO:-0500
RDATE:20210314T020000
RDATE:20220313T020000
END:DAYLIGHT
END:VTIMEZONE
BEGIN:VEVENT
UID:bbfbc2f4-8505-4aed-a760-4d1bbec2e128
DTSTAMP:20260423T044823Z
DESCRIPTION:2021 Early Spring Virtual Retreat (Survivor to Thriver)\nFeb 12
 th through 13th \nregistration is now open\, closes Jan 22nd
DTSTART;TZID=America/Chicago:20210212T000000
DTEND;TZID=America/Chicago:20210213T235900
LOCATION:
SUMMARY:Early Spring Virtual Retreat
END:VEVENT
END:VCALENDAR
