BEGIN:VCALENDAR
VERSION:2.0
PRODID:-//birthparentsupportalliance.org//NONSGML kigkonsult.se iCalcreator
  2.30.10//
CALSCALE:GREGORIAN
METHOD:PUBLISH
UID:22aef2ab-fd87-40d9-a6ee-e959b1da8eee
X-WR-CALDESC:Registration opens December 11th\nMaterial list will be emaile
 d upon registration and special gift will be mailed prior to event
X-WR-RELCALID:ef5290cd38d4a288680affb3809f49ce
X-WR-TIMEZONE:America/Chicago
BEGIN:VTIMEZONE
TZID:America/Chicago
BEGIN:STANDARD
TZNAME:CST
DTSTART:20201101T020000
TZOFFSETFROM:-0500
TZOFFSETTO:-0600
RDATE:20211107T020000
END:STANDARD
BEGIN:DAYLIGHT
TZNAME:CDT
DTSTART:20200308T020000
TZOFFSETFROM:-0600
TZOFFSETTO:-0500
RDATE:20210314T020000
RDATE:20220313T020000
END:DAYLIGHT
END:VTIMEZONE
BEGIN:VEVENT
UID:f01b68a3-edf9-45ae-913e-a90844a08316
DTSTAMP:20260423T063159Z
DESCRIPTION:Registration opens December 11th\nMaterial list will be emailed
  upon registration and special gift will be mailed prior to event
DTSTART;TZID=America/Chicago:20210123T100000
DTEND;TZID=America/Chicago:20210123T110000
LOCATION:
SUMMARY:Vision Board Event
END:VEVENT
END:VCALENDAR
