BEGIN:VCALENDAR
VERSION:2.0
PRODID:-//birthparentsupportalliance.org//NONSGML kigkonsult.se iCalcreator
  2.30.10//
CALSCALE:GREGORIAN
METHOD:PUBLISH
UID:d876a6a8-9752-416e-8f0f-014454c700a2
X-WR-CALDESC:PRESENTED VIA ZOOM Throughout 2021\, On Your Feet Foundation w
 ill be hosting a monthly speaker series for all sides of the triad that co
 ntinues to expand ​on key topics explored in our first 4 session in Octobe
 r 2020: Race\, Resilience and Relationships in adoption. ​The series is be
 ing presented in 4 chapters with each chapter covering the three topics wi
 th renowned speakers.\n
X-WR-RELCALID:099afc72a78aff72fb6b7b8cb08a92c8
X-WR-TIMEZONE:America/Chicago
BEGIN:VTIMEZONE
TZID:America/Chicago
BEGIN:STANDARD
TZNAME:CST
DTSTART:20201101T020000
TZOFFSETFROM:-0500
TZOFFSETTO:-0600
RDATE:20211107T020000
END:STANDARD
BEGIN:DAYLIGHT
TZNAME:CDT
DTSTART:20200308T020000
TZOFFSETFROM:-0600
TZOFFSETTO:-0500
RDATE:20210314T020000
RDATE:20220313T020000
END:DAYLIGHT
END:VTIMEZONE
BEGIN:VEVENT
UID:b7f28971-f930-42fb-8459-7d456685cdd3
DTSTAMP:20260423T063223Z
DESCRIPTION:PRESENTED VIA ZOOM Throughout 2021\, On Your Feet Foundation wi
 ll be hosting a monthly speaker series for all sides of the triad that con
 tinues to expand ​on key topics explored in our first 4 session in October
  2020: Race\, Resilience and Relationships in adoption. ​The series is bei
 ng presented in 4 chapters with each chapter covering the three topics wit
 h renowned speakers.\n
DTSTART;TZID=America/Chicago:20210117T140000
DTEND;TZID=America/Chicago:20210117T153000
LOCATION:Virtual/Zoom
SUMMARY:Activism in Adoption Speaker Series
END:VEVENT
END:VCALENDAR
