BEGIN:VCALENDAR
VERSION:2.0
PRODID:-//birthparentsupportalliance.org//NONSGML kigkonsult.se iCalcreator
  2.30.10//
CALSCALE:GREGORIAN
METHOD:PUBLISH
UID:8edf352c-33a1-43b8-aa79-7d14941fb892
X-WR-CALDESC:
X-WR-RELCALID:c286c05e87a20f16ecb9650f0c31e49f
X-WR-TIMEZONE:America/Chicago
BEGIN:VTIMEZONE
TZID:America/Chicago
BEGIN:STANDARD
TZNAME:CST
DTSTART:20201101T020000
TZOFFSETFROM:-0500
TZOFFSETTO:-0600
RDATE:20211107T020000
END:STANDARD
BEGIN:DAYLIGHT
TZNAME:CDT
DTSTART:20200308T020000
TZOFFSETFROM:-0600
TZOFFSETTO:-0500
RDATE:20210314T020000
RDATE:20220313T020000
END:DAYLIGHT
END:VTIMEZONE
BEGIN:VEVENT
UID:e50adec6-d01b-44b7-b819-1be0381da06f
DTSTAMP:20260423T075628Z
DESCRIPTION:
DTSTART;TZID=America/Chicago:20201210T190000
DTEND;TZID=America/Chicago:20201210T210000
LOCATION:
SUMMARY:Ugly Pajama Holiday Party! (just for birthmoms)
END:VEVENT
END:VCALENDAR
