BEGIN:VCALENDAR
VERSION:2.0
PRODID:-//birthparentsupportalliance.org//NONSGML kigkonsult.se iCalcreator
  2.30.10//
CALSCALE:GREGORIAN
METHOD:PUBLISH
UID:fda60d20-96d2-4660-9702-d5798691fcae
X-WR-CALDESC:Activism in Adoption is a new virtual series brought to life b
 y On Your Feet Foundation. The series will be compelling for anyone intere
 sted in navigating family relationships\, talking to loved ones about sens
 itive topics\, building and harnessing resiliency\, speaking with children
  about race\, honoring all members of the adoption triad\, and unpacking s
 elf-identity within the framework of adoption. This series will help adopt
 ive parents learn to become an adoption activist\, helping their child nav
 igate their feelings and experiences as adoptees. For those interested\, a
 doption education credits will be available and documented. This is a uniq
 ue opportunity to learn from field experts and panelists with a breadth of
  experience to share. Open to all to attend. Tickets go on sale August 25t
 h. Don’t miss this conversation and growth opportunity! All proceeds will 
 benefit birthmothers through On Your Feet Foundation’s case management and
  retreats.
X-WR-RELCALID:463b004587ac29240294e5b6b7afefc0
X-WR-TIMEZONE:America/Chicago
BEGIN:VTIMEZONE
TZID:America/Chicago
BEGIN:STANDARD
TZNAME:CST
DTSTART:20191103T020000
TZOFFSETFROM:-0500
TZOFFSETTO:-0600
RDATE:20201101T020000
RDATE:20211107T020000
END:STANDARD
BEGIN:DAYLIGHT
TZNAME:CDT
DTSTART:20200308T020000
TZOFFSETFROM:-0600
TZOFFSETTO:-0500
RDATE:20210314T020000
RDATE:20220313T020000
END:DAYLIGHT
END:VTIMEZONE
BEGIN:VEVENT
UID:f8112398-9a90-4b72-a75c-770ca6cf1dfe
DTSTAMP:20260423T112843Z
DESCRIPTION:Activism in Adoption is a new virtual series brought to life by
  On Your Feet Foundation. The series will be compelling for anyone interes
 ted in navigating family relationships\, talking to loved ones about sensi
 tive topics\, building and harnessing resiliency\, speaking with children 
 about race\, honoring all members of the adoption triad\, and unpacking se
 lf-identity within the framework of adoption. This series will help adopti
 ve parents learn to become an adoption activist\, helping their child navi
 gate their feelings and experiences as adoptees. For those interested\, ad
 option education credits will be available and documented. This is a uniqu
 e opportunity to learn from field experts and panelists with a breadth of 
 experience to share. Open to all to attend. Tickets go on sale August 25th
 . Don’t miss this conversation and growth opportunity! All proceeds will b
 enefit birthmothers through On Your Feet Foundation’s case management and 
 retreats.
DTSTART;TZID=America/Chicago:20201011T000000
DTEND;TZID=America/Chicago:20201011T235900
LOCATION:Zoom virtual
SUMMARY:Activism in Adoption Speaker Series: Featuring Pamela Cook
END:VEVENT
END:VCALENDAR
