BEGIN:VCALENDAR
VERSION:2.0
PRODID:-//birthparentsupportalliance.org//NONSGML kigkonsult.se iCalcreator
  2.30.10//
CALSCALE:GREGORIAN
METHOD:PUBLISH
UID:57f1e7fe-b588-4581-8985-505ff5c5eeed
X-WR-CALDESC:Registration opens August!
X-WR-RELCALID:c5a75c923fb99ce5cda7d85a70e1bbf2
X-WR-TIMEZONE:America/Chicago
BEGIN:VTIMEZONE
TZID:America/Chicago
BEGIN:STANDARD
TZNAME:CST
DTSTART:20191103T020000
TZOFFSETFROM:-0500
TZOFFSETTO:-0600
RDATE:20201101T020000
RDATE:20211107T020000
END:STANDARD
BEGIN:DAYLIGHT
TZNAME:CDT
DTSTART:20200308T020000
TZOFFSETFROM:-0600
TZOFFSETTO:-0500
RDATE:20210314T020000
RDATE:20220313T020000
END:DAYLIGHT
END:VTIMEZONE
BEGIN:VEVENT
UID:09815c61-7092-4163-8d4f-57e303712bd2
DTSTAMP:20260423T124818Z
DESCRIPTION:Registration opens August!
DTSTART;TZID=America/Chicago:20200925T000000
DTEND;TZID=America/Chicago:20200926T235900
LOCATION:
SUMMARY:Virtual OYFF Fall Birthmom Retreat
END:VEVENT
END:VCALENDAR
