BEGIN:VCALENDAR
VERSION:2.0
PRODID:-//birthparentsupportalliance.org//NONSGML kigkonsult.se iCalcreator
  2.30.10//
CALSCALE:GREGORIAN
METHOD:PUBLISH
UID:86d8b605-0fc8-4a56-a145-16344ef110a3
X-WR-CALDESC:details TBA
X-WR-RELCALID:4272de2e40ade44b6ae7928de8f5d551
X-WR-TIMEZONE:America/Chicago
BEGIN:VTIMEZONE
TZID:America/Chicago
BEGIN:STANDARD
TZNAME:CST
DTSTART:20191103T020000
TZOFFSETFROM:-0500
TZOFFSETTO:-0600
RDATE:20201101T020000
RDATE:20211107T020000
END:STANDARD
BEGIN:DAYLIGHT
TZNAME:CDT
DTSTART:20200308T020000
TZOFFSETFROM:-0600
TZOFFSETTO:-0500
RDATE:20210314T020000
END:DAYLIGHT
END:VTIMEZONE
BEGIN:VEVENT
UID:aff024e2-0a32-4e8f-bd5f-0d0bb65a29f1
DTSTAMP:20260423T161758Z
DESCRIPTION:details TBA
DTSTART;TZID=America/Chicago:20200711T000000
DTEND;TZID=America/Chicago:20200711T235900
LOCATION:
SUMMARY:Coffee With A Birthmom
END:VEVENT
END:VCALENDAR
