BEGIN:VCALENDAR
VERSION:2.0
PRODID:-//birthparentsupportalliance.org//NONSGML kigkonsult.se iCalcreator
  2.30.10//
CALSCALE:GREGORIAN
METHOD:PUBLISH
UID:59e23f32-24a8-40a6-a552-77e5000fb666
X-WR-CALDESC:Families are invited to join in a Virtual Community Art Day. A
 ttendees will receive their own art kits and be invited to join in a virtu
 al art making day - May 30 (morning session) and June 4 (early evening ses
 sion).\n\nOpen to all\, this is a great opportunity for everyone from adop
 tive families and birthparents to grandparents and grand children to join 
 in an event together via Zoom and make some art guided by art therapist Kr
 isti Gmutza.
X-WR-RELCALID:3b687f77a0b96d2668f819226edbffd8
X-WR-TIMEZONE:America/Chicago
BEGIN:VTIMEZONE
TZID:America/Chicago
BEGIN:STANDARD
TZNAME:CST
DTSTART:20191103T020000
TZOFFSETFROM:-0500
TZOFFSETTO:-0600
RDATE:20201101T020000
RDATE:20211107T020000
END:STANDARD
BEGIN:DAYLIGHT
TZNAME:CDT
DTSTART:20200308T020000
TZOFFSETFROM:-0600
TZOFFSETTO:-0500
RDATE:20210314T020000
END:DAYLIGHT
END:VTIMEZONE
BEGIN:VEVENT
UID:3ea6c7a3-62e2-4fa1-91f9-542ab8e3bce3
DTSTAMP:20260423T174349Z
DESCRIPTION:Families are invited to join in a Virtual Community Art Day. At
 tendees will receive their own art kits and be invited to join in a virtua
 l art making day - May 30 (morning session) and June 4 (early evening sess
 ion).\n\nOpen to all\, this is a great opportunity for everyone from adopt
 ive families and birthparents to grandparents and grand children to join i
 n an event together via Zoom and make some art guided by art therapist Kri
 sti Gmutza.
DTSTART;TZID=America/Chicago:20200618T160000
DTEND;TZID=America/Chicago:20200618T173000
LOCATION:
SUMMARY:Virtual Community Art Day
END:VEVENT
END:VCALENDAR
