BEGIN:VCALENDAR
VERSION:2.0
PRODID:-//birthparentsupportalliance.org//NONSGML kigkonsult.se iCalcreator
  2.30.10//
CALSCALE:GREGORIAN
METHOD:PUBLISH
UID:fa6886a8-ca49-462d-a5ed-9b15c6c74919
X-WR-CALDESC:While we can't meet with everyone in person right now\, we are
  hosting 3 weekly Zoom calls moderated by our case management staff and re
 treat facilitators. Have a question? Need some assistance navigating resou
 rces? Just want to connect and chat with some friendly faces? We're here f
 or you!\n\nThese calls are intended for birthmothers only\, so please don'
 t share publicly. If you have a question\, please reach out!
X-WR-RELCALID:78adbca5b50be74a2ae0f103a4ce14e7
X-WR-TIMEZONE:America/Chicago
BEGIN:VTIMEZONE
TZID:America/Chicago
BEGIN:STANDARD
TZNAME:CST
DTSTART:20191103T020000
TZOFFSETFROM:-0500
TZOFFSETTO:-0600
RDATE:20201101T020000
RDATE:20211107T020000
END:STANDARD
BEGIN:DAYLIGHT
TZNAME:CDT
DTSTART:20200308T020000
TZOFFSETFROM:-0600
TZOFFSETTO:-0500
RDATE:20210314T020000
END:DAYLIGHT
END:VTIMEZONE
BEGIN:VEVENT
UID:81e9db0d-3ab9-4f0f-8dcc-4fea96aceed8
DTSTAMP:20260423T174919Z
DESCRIPTION:While we can't meet with everyone in person right now\, we are 
 hosting 3 weekly Zoom calls moderated by our case management staff and ret
 reat facilitators. Have a question? Need some assistance navigating resour
 ces? Just want to connect and chat with some friendly faces? We're here fo
 r you!\n\nThese calls are intended for birthmothers only\, so please don't
  share publicly. If you have a question\, please reach out!
DTSTART;TZID=America/Chicago:20200611T200000
DTEND;TZID=America/Chicago:20200611T210000
LOCATION:Zoom Call
SUMMARY:BirthmomsConnect
END:VEVENT
END:VCALENDAR
