BEGIN:VCALENDAR
VERSION:2.0
PRODID:-//birthparentsupportalliance.org//NONSGML kigkonsult.se iCalcreator
  2.30.10//
CALSCALE:GREGORIAN
METHOD:PUBLISH
UID:d5d78b52-1a0b-4a2f-bef3-dd4114a102c7
X-WR-CALDESC:We are excited that Ashley Mitchell\, of Big Tough Girl\, has 
 agreed to HOST and lead this amazing event!
X-WR-RELCALID:d481ee99c8305c8c3e2c7d4fbedf6ca7
X-WR-TIMEZONE:America/Chicago
BEGIN:VTIMEZONE
TZID:America/Chicago
BEGIN:STANDARD
TZNAME:CST
DTSTART:20191103T020000
TZOFFSETFROM:-0500
TZOFFSETTO:-0600
RDATE:20201101T020000
RDATE:20211107T020000
END:STANDARD
BEGIN:DAYLIGHT
TZNAME:CDT
DTSTART:20200308T020000
TZOFFSETFROM:-0600
TZOFFSETTO:-0500
RDATE:20210314T020000
END:DAYLIGHT
END:VTIMEZONE
BEGIN:VEVENT
UID:11eb8258-df01-4a8f-aeea-bfefab085b6d
DTSTAMP:20260423T193237Z
DESCRIPTION:We are excited that Ashley Mitchell\, of Big Tough Girl\, has a
 greed to HOST and lead this amazing event!
DTSTART;TZID=America/Chicago:20200509T150000
DTEND;TZID=America/Chicago:20200509T160000
LOCATION:Zoom
SUMMARY:BIRTH MOTHER’S DAY NATIONAL ZOOM CELEBRATION!
END:VEVENT
END:VCALENDAR
