BEGIN:VCALENDAR
VERSION:2.0
PRODID:-//birthparentsupportalliance.org//NONSGML kigkonsult.se iCalcreator
  2.30.10//
CALSCALE:GREGORIAN
METHOD:PUBLISH
UID:1eaf4574-4abc-4938-a82f-a32a60236ee4
X-WR-CALDESC:Details and Location: TBA
X-WR-RELCALID:d1068f9aab9f7e9ab088a9284963ea29
X-WR-TIMEZONE:America/Chicago
BEGIN:VTIMEZONE
TZID:America/Chicago
BEGIN:STANDARD
TZNAME:CST
DTSTART:20191103T020000
TZOFFSETFROM:-0500
TZOFFSETTO:-0600
RDATE:20201101T020000
END:STANDARD
BEGIN:DAYLIGHT
TZNAME:CDT
DTSTART:20200308T020000
TZOFFSETFROM:-0600
TZOFFSETTO:-0500
RDATE:20210314T020000
END:DAYLIGHT
END:VTIMEZONE
BEGIN:VEVENT
UID:edcd2170-aa53-4a7a-8860-b65e8fb0f76f
DTSTAMP:20260423T205641Z
DESCRIPTION:Details and Location: TBA
DTSTART;TZID=America/Chicago:20200416T103000
DTEND;TZID=America/Chicago:20200416T113000
LOCATION:
SUMMARY:OYFF/Agency Networking Event
END:VEVENT
END:VCALENDAR
