BEGIN:VCALENDAR
VERSION:2.0
PRODID:-//birthparentsupportalliance.org//NONSGML kigkonsult.se iCalcreator
  2.30.10//
CALSCALE:GREGORIAN
METHOD:PUBLISH
UID:89774f90-fc87-473f-9cdc-4c5ccc4c6098
X-WR-CALDESC:
X-WR-RELCALID:b33a0022891d08b4f2eb2220a2489ea4
X-WR-TIMEZONE:America/Chicago
BEGIN:VTIMEZONE
TZID:America/Chicago
BEGIN:STANDARD
TZNAME:CST
DTSTART:20191103T020000
TZOFFSETFROM:-0500
TZOFFSETTO:-0600
RDATE:20201101T020000
END:STANDARD
BEGIN:DAYLIGHT
TZNAME:CDT
DTSTART:20200308T020000
TZOFFSETFROM:-0600
TZOFFSETTO:-0500
RDATE:20210314T020000
END:DAYLIGHT
END:VTIMEZONE
BEGIN:VEVENT
UID:669e9054-70f7-4e91-bdae-814a824d14bf
DTSTAMP:20260423T210017Z
DESCRIPTION:
DTSTART;TZID=America/Chicago:20200416T103000
DTEND;TZID=America/Chicago:20200416T120000
LOCATION:TBA
SUMMARY:Illinois Agency Networking Meeting
END:VEVENT
END:VCALENDAR
