BEGIN:VCALENDAR
VERSION:2.0
PRODID:-//birthparentsupportalliance.org//NONSGML kigkonsult.se iCalcreator
  2.30.10//
CALSCALE:GREGORIAN
METHOD:PUBLISH
UID:16ee0313-a81e-4f65-80b8-a2cac97ded00
X-WR-CALDESC:
X-WR-RELCALID:5a2650556d56b81d21c2da2b30a62b6d
X-WR-TIMEZONE:America/Chicago
BEGIN:VTIMEZONE
TZID:America/Chicago
BEGIN:STANDARD
TZNAME:CST
DTSTART:20191103T020000
TZOFFSETFROM:-0500
TZOFFSETTO:-0600
RDATE:20201101T020000
END:STANDARD
BEGIN:DAYLIGHT
TZNAME:CDT
DTSTART:20190310T020000
TZOFFSETFROM:-0600
TZOFFSETTO:-0500
RDATE:20200308T020000
RDATE:20210314T020000
END:DAYLIGHT
END:VTIMEZONE
BEGIN:VEVENT
UID:aadae16a-4b66-4224-b47e-628f6b6ad8b0
DTSTAMP:20260423T225619Z
DESCRIPTION:
DTSTART;TZID=America/Chicago:20200307T000000
DTEND;TZID=America/Chicago:20200307T235900
LOCATION:
SUMMARY:Coffee With a Birthmom
END:VEVENT
END:VCALENDAR
